BEGIN:VCALENDAR
VERSION:2.0
PRODID:-//Library Market//iCal Export//EN
BEGIN:VEVENT
SUMMARY:Teen Volunteer Opportunity
UID:97917
DTSTAMP:20260421T075900Z
DTSTART:20260429T154500Z
DTEND:20260429T174500Z
LOCATION:Woodridge Public Library, 3 Plaza Dr, Woodridge, IL 60517, United
  States
ROOM: Children&#039;s Dept.
DESCRIPTION:Teens will assist with the Solar Viewing at the Library. They 
 will help with a simple craft, temporary tattoos, and more! Volunteers wil
 l earn 2 service hours. 
URL:https://www.woodridgelibrary.org/event/teen-volunteer-opportunity-9791
 7
END:VEVENT
END:VCALENDAR
